BEGIN:VCALENDAR
VERSION:2.0
PRODID:-//Invasive Species Centre - ECPv6.15.20//NONSGML v1.0//EN
CALSCALE:GREGORIAN
METHOD:PUBLISH
X-ORIGINAL-URL:https://www.invasivespeciescentre.ca
X-WR-CALDESC:Events for Invasive Species Centre
REFRESH-INTERVAL;VALUE=DURATION:PT1H
X-Robots-Tag:noindex
X-PUBLISHED-TTL:PT1H
BEGIN:VTIMEZONE
TZID:America/Toronto
BEGIN:DAYLIGHT
TZOFFSETFROM:-0500
TZOFFSETTO:-0400
TZNAME:EDT
DTSTART:20250309T070000
END:DAYLIGHT
BEGIN:STANDARD
TZOFFSETFROM:-0400
TZOFFSETTO:-0500
TZNAME:EST
DTSTART:20251102T060000
END:STANDARD
BEGIN:DAYLIGHT
TZOFFSETFROM:-0500
TZOFFSETTO:-0400
TZNAME:EDT
DTSTART:20260308T070000
END:DAYLIGHT
BEGIN:STANDARD
TZOFFSETFROM:-0400
TZOFFSETTO:-0500
TZNAME:EST
DTSTART:20261101T060000
END:STANDARD
BEGIN:DAYLIGHT
TZOFFSETFROM:-0500
TZOFFSETTO:-0400
TZNAME:EDT
DTSTART:20270314T070000
END:DAYLIGHT
BEGIN:STANDARD
TZOFFSETFROM:-0400
TZOFFSETTO:-0500
TZNAME:EST
DTSTART:20271107T060000
END:STANDARD
END:VTIMEZONE
BEGIN:VEVENT
DTSTART;VALUE=DATE:20260907
DTEND;VALUE=DATE:20260912
DTSTAMP:20260425T101705
CREATED:20260210T190237Z
LAST-MODIFIED:20260210T191411Z
UID:39551-1788739200-1789171199@www.invasivespeciescentre.ca
SUMMARY:Neobiota 2026\, the 14th International Conference on Biological Invasions
DESCRIPTION:The International Neobiota conference is an initiative from Neobiota\, the European Group on Biological Invasions. \nIt is part of a well-established biennial series that brings together researchers\, practitioners\, policymakers\, and stakeholders from around the world to share cutting-edge scientific research on biological invasions. \nThis year\, the conference features a rich programme including Thematic and General Sessions\, keynote speakers\, poster and oral presentations\, and a field trip. \nNeobiota 2026 also welcomes the final event of the LIFE RIPARIAS project\, which focuses on transitioning from data to management of biological invasions.
URL:https://www.invasivespeciescentre.ca/event/neobiota-2026-the-14th-international-conference-on-biological-invasions/
LOCATION:Brussels Belgium
END:VEVENT
BEGIN:VEVENT
DTSTART;VALUE=DATE:20261006
DTEND;VALUE=DATE:20261009
DTSTAMP:20260425T101705
CREATED:20251204T190940Z
LAST-MODIFIED:20251204T190940Z
UID:38281-1791244800-1791503999@www.invasivespeciescentre.ca
SUMMARY:2026 Upper Midwest Invasive Species Conference
DESCRIPTION:The Upper Midwest Invasive Species Conference (UMISC) is a biennial conference that addresses all taxa of invasive species. In 2026\, UMISC will celebrate 18 years of connecting the invasive species management\, research\, and policy community. The goal of UMISC is to strengthen management of invasive species\, especially prevention\, control\, and containment. There have been great strides in invasive species research\, prevention\, and management\, but much work still must be done. The conference provides numerous opportunities to network with professionals\, land managers\, researchers\, nonprofits\, and others.
URL:https://www.invasivespeciescentre.ca/event/2026-upper-midwest-invasive-species-conference/
LOCATION:La Crosse Convention Center in La Crosse\, Wisconsin
END:VEVENT
BEGIN:VEVENT
DTSTART;VALUE=DATE:20261019
DTEND;VALUE=DATE:20261023
DTSTAMP:20260425T101705
CREATED:20260401T152945Z
LAST-MODIFIED:20260401T152945Z
UID:40260-1792368000-1792713599@www.invasivespeciescentre.ca
SUMMARY:The 2026 NAISMA Annual Conference
DESCRIPTION:NAISMA’s 2026 Annual Conference will take place at the Hilton Alexandria Mark Center\, just minutes from Washington\, D.C. This event brings together invasive species management professionals\, researchers\, educators\, and policymakers from across North America to share ideas\, innovations\, and strategies for protecting natural ecosystems.
URL:https://www.invasivespeciescentre.ca/event/the-2026-naisma-annual-conference/
LOCATION:Alexandria\, Virginia
END:VEVENT
END:VCALENDAR