BEGIN:VCALENDAR
VERSION:2.0
PRODID:-//Invasive Species Centre - ECPv6.15.20//NONSGML v1.0//EN
CALSCALE:GREGORIAN
METHOD:PUBLISH
X-ORIGINAL-URL:https://www.invasivespeciescentre.ca
X-WR-CALDESC:Events for Invasive Species Centre
REFRESH-INTERVAL;VALUE=DURATION:PT1H
X-Robots-Tag:noindex
X-PUBLISHED-TTL:PT1H
BEGIN:VTIMEZONE
TZID:America/Toronto
BEGIN:DAYLIGHT
TZOFFSETFROM:-0500
TZOFFSETTO:-0400
TZNAME:EDT
DTSTART:20250309T070000
END:DAYLIGHT
BEGIN:STANDARD
TZOFFSETFROM:-0400
TZOFFSETTO:-0500
TZNAME:EST
DTSTART:20251102T060000
END:STANDARD
BEGIN:DAYLIGHT
TZOFFSETFROM:-0500
TZOFFSETTO:-0400
TZNAME:EDT
DTSTART:20260308T070000
END:DAYLIGHT
BEGIN:STANDARD
TZOFFSETFROM:-0400
TZOFFSETTO:-0500
TZNAME:EST
DTSTART:20261101T060000
END:STANDARD
BEGIN:DAYLIGHT
TZOFFSETFROM:-0500
TZOFFSETTO:-0400
TZNAME:EDT
DTSTART:20270314T070000
END:DAYLIGHT
BEGIN:STANDARD
TZOFFSETFROM:-0400
TZOFFSETTO:-0500
TZNAME:EST
DTSTART:20271107T060000
END:STANDARD
END:VTIMEZONE
BEGIN:VEVENT
DTSTART;VALUE=DATE:20260311
DTEND;VALUE=DATE:20260313
DTSTAMP:20260424T232823
CREATED:20251017T200038Z
LAST-MODIFIED:20251017T200038Z
UID:37992-1773187200-1773359999@www.invasivespeciescentre.ca
SUMMARY:Alberta Invasive Species Council 2026 Conference
DESCRIPTION:A variety of sessions focused on invasive species as well as certified pesticide applicator credits and CEU credits will be offered. We will be hosting a poster session\, a 50/50 raffle and opportunities for networking and sponsorship – please contact us at communications@abinvasives.ca to inquire. \n\n\n\n\n\n\n\n\n 
URL:https://www.invasivespeciescentre.ca/event/alberta-invasive-species-council-2026-conference/
LOCATION:Olds College of Agriculture and Technology
END:VEVENT
BEGIN:VEVENT
DTSTART;VALUE=DATE:20260324
DTEND;VALUE=DATE:20260326
DTSTAMP:20260424T232823
CREATED:20260218T161153Z
LAST-MODIFIED:20260218T161153Z
UID:39740-1774310400-1774483199@www.invasivespeciescentre.ca
SUMMARY:2026 NE RISCC Symposium
DESCRIPTION:Join us for two half-days of invasive species and climate change talks\, panels\, and workshops! The symposium is free and will take place on March 24 and 25\, 2026 from 10AM – 3PM Eastern each day.
URL:https://www.invasivespeciescentre.ca/event/2026-ne-riscc-symposium/
LOCATION:Online
END:VEVENT
END:VCALENDAR